BEGIN:VCALENDAR
VERSION:2.0
PRODID:-//eventon.com NONSGML v1.0//EN
CALSCALE:GREGORIAN
METHOD:PUBLISH
BEGIN:VEVENT
UID:69e4ecd072948
DTSTAMP:20260419T145512Z
DTSTART:20261119T100000Z
DTEND:20261119T160000Z
LOCATION:
SUMMARY:Festival of Trees & Wreaths
DESCRIPTION:The Flagler County Public Library serves as the cultural heart 
 of our community\,  and it is a place where the Hispanic American Cultural 
 Society (HACS) is proud to participate in the Annual Festival of Christmas 
 Trees &amp; Wreaths.  Together with other organizations\,  we display our 
 Christmas Trees for all citizens[..]\nhttps://hacsflorida.com/events/festiv
 al-of-trees-wreaths/
URL:https://hacsflorida.com/events/festival-of-trees-wreaths/
END:VEVENT
END:VCALENDAR